BEGIN:VCALENDAR
VERSION:2.0
PRODID:-//ChamberMaster//Event Calendar 2.0//EN
METHOD:PUBLISH
X-PUBLISHED-TTL:P3D
REFRESH-INTERVAL:P3D
CALSCALE:GREGORIAN
BEGIN:VEVENT
DTSTART;VALUE=DATE:20100212
DTEND;VALUE=DATE:20100215
TRANSP:TRANSPARENT
X-MICROSOFT-CDO-ALLDAYEVENT:TRUE
SUMMARY:CP - ''Beauty and the Beast''
DESCRIPTION:"The tale as old as time" comes to life on stage in this adaptation of the Disney favorite.  This family favorite will run a special three weeks!
X-ALT-DESC;FMTTYPE=text/html:<div>&quot\;The tale as old as time&quot\; comes to life on stage in this adaptation of the Disney favorite.&nbsp\; This family favorite will run a special three weeks!</div>
LOCATION:
UID:e.41.1093
SEQUENCE:3
DTSTAMP:20260425T165456Z
URL:https://business.beatricechamber.com/events/details/cp-beauty-and-the-beast-02-12-2010-1093
END:VEVENT

END:VCALENDAR
