BEGIN:VCALENDAR
VERSION:2.0
PRODID:-//ChamberMaster//Event Calendar 2.0//EN
METHOD:PUBLISH
X-PUBLISHED-TTL:P3D
REFRESH-INTERVAL:P3D
CALSCALE:GREGORIAN
BEGIN:VEVENT
DTSTART;VALUE=DATE:20090814
DTEND;VALUE=DATE:20090817
TRANSP:TRANSPARENT
X-MICROSOFT-CDO-ALLDAYEVENT:TRUE
SUMMARY:CP - ''Edges''
DESCRIPTION:A musical about discovering yourself.Completely produced by and featuring young adults ages 16-25!!
X-ALT-DESC;FMTTYPE=text/html:<div>A musical about discovering yourself.</div><div>Completely produced by and featuring young adults ages 16-25!!</div>
LOCATION:
UID:e.41.1101
SEQUENCE:3
DTSTAMP:20260426T011451Z
URL:https://business.beatricechamber.com/events/details/cp-edges-08-14-2009-1101
END:VEVENT

END:VCALENDAR
