BEGIN:VCALENDAR
VERSION:2.0
PRODID:-//ChamberMaster//Event Calendar 2.0//EN
METHOD:PUBLISH
X-PUBLISHED-TTL:P3D
REFRESH-INTERVAL:P3D
CALSCALE:GREGORIAN
BEGIN:VEVENT
DTSTART;VALUE=DATE:20091203
DTEND;VALUE=DATE:20091204
TRANSP:TRANSPARENT
X-MICROSOFT-CDO-ALLDAYEVENT:TRUE
SUMMARY:CP Family Holiday Event Opening
DESCRIPTION:
X-ALT-DESC;FMTTYPE=text/html:
LOCATION:
UID:e.41.1542
SEQUENCE:3
DTSTAMP:20260425T194451Z
URL:https://business.beatricechamber.com/events/details/cp-family-holiday-event-opening-12-03-2009-1542
END:VEVENT

END:VCALENDAR
