BEGIN:VCALENDAR
VERSION:2.0
PRODID:-//ChamberMaster//Event Calendar 2.0//EN
METHOD:PUBLISH
X-PUBLISHED-TTL:P3D
REFRESH-INTERVAL:P3D
CALSCALE:GREGORIAN
BEGIN:VEVENT
DTSTART;VALUE=DATE:20100611
DTEND;VALUE=DATE:20100614
TRANSP:TRANSPARENT
X-MICROSOFT-CDO-ALLDAYEVENT:TRUE
SUMMARY:CP - ''Perfect Wedding''
DESCRIPTION:A worried bride\, an overbearing mother-in-law and a groom who doesn't remember anything that happened at his bachelor party\, all combine for a fast-paced wedding farce gone wild.
X-ALT-DESC;FMTTYPE=text/html:<div>A worried bride\, an overbearing mother-in-law and a groom who doesn't remember anything that happened at his bachelor party\, all combine for a fast-paced wedding farce gone wild.</div>
LOCATION:
UID:e.41.1099
SEQUENCE:3
DTSTAMP:20260425T105249Z
URL:https://business.beatricechamber.com/events/details/cp-perfect-wedding-06-11-2010-1099
END:VEVENT

END:VCALENDAR
