BEGIN:VCALENDAR
VERSION:2.0
PRODID:-//ChamberMaster//Event Calendar 2.0//EN
METHOD:PUBLISH
X-PUBLISHED-TTL:P3D
REFRESH-INTERVAL:P3D
CALSCALE:GREGORIAN
BEGIN:VEVENT
DTSTART;VALUE=DATE:20110326
DTEND;VALUE=DATE:20110327
TRANSP:TRANSPARENT
X-MICROSOFT-CDO-ALLDAYEVENT:TRUE
SUMMARY:CP's Conversation "Supportive Lifestyles"
DESCRIPTION:Community Players Free Community Conversation\n\n"Supportive Lifestyles"\n\n\n\nSaturday\, March 26\n\n10 am\n\n\n\nCommunity Players Theater\n\n412 Ella Street\n\nBeatrice\, NE  68310\n\n\n\n"Supportive Lifestyles" is a program founded through the Beatrice State Developmental Center to support people in leading lives of meaning and value.  This presentation will allow participants in supportive lifestyles to share insights and experiences\, in an effort to foster further understanding and sensitivity in our community.\n\n\n\nThe event is free and open to the public.  Each person in attendance will also receive a coupon for discounted admission to "The Boys Next Door\," which runs April 8-10 and 15-17.\n\n\n\nFor more information\, call (402)228-1801 or visit www.beatricecommunityplayers.com.
X-ALT-DESC;FMTTYPE=text/html:<strong><span style="font-size: 14px">Community Players Free Community Conversation<br />\n&quot\;Supportive Lifestyles&quot\;<br />\n<br />\nSaturday\, March 26<br />\n10 am<br />\n<br />\nCommunity Players Theater<br />\n412 Ella Street<br />\nBeatrice\, NE&nbsp\; 68310</span></strong><br />\n<br />\n&quot\;Supportive Lifestyles&quot\; is a program founded through the Beatrice State Developmental Center to support people in leading lives of meaning and value.&nbsp\; This presentation will allow participants in supportive lifestyles to share insights and experiences\, in an effort to foster further understanding and sensitivity in our community.<br />\n<br />\nThe event is free and open to the public.&nbsp\; Each person in attendance will also receive a coupon for discounted admission to &quot\;The Boys Next Door\,&quot\; which runs April 8-10 and 15-17.<br />\n<br />\nFor more information\, call (402)228-1801 or visit www.beatricecommunityplayers.com.<br />\n
LOCATION:
UID:e.41.4249
SEQUENCE:3
DTSTAMP:20260424T211541Z
URL:https://business.beatricechamber.com/events/details/cp-s-conversation-supportive-lifestyles-03-26-2011-4249
END:VEVENT

END:VCALENDAR
