BEGIN:VCALENDAR
VERSION:2.0
PRODID:-//ChamberMaster//Event Calendar 2.0//EN
METHOD:PUBLISH
X-PUBLISHED-TTL:P3D
REFRESH-INTERVAL:P3D
CALSCALE:GREGORIAN
BEGIN:VEVENT
DTSTART;VALUE=DATE:20091016
DTEND;VALUE=DATE:20091019
TRANSP:TRANSPARENT
X-MICROSOFT-CDO-ALLDAYEVENT:TRUE
SUMMARY:CP - ''Something's Afoot''
DESCRIPTION:A musical comedy spoof of Agatha Christie murder mysteries filled with hummable music\, laughs and a plot that leaves you guessing "who done it" all the way to the end.
X-ALT-DESC;FMTTYPE=text/html:<div>A musical comedy spoof of Agatha Christie murder mysteries filled with hummable music\, laughs and a plot that leaves you guessing &quot\;who done it&quot\; all the way to the end.</div>
LOCATION:
UID:e.41.1091
SEQUENCE:3
DTSTAMP:20260425T220745Z
URL:https://business.beatricechamber.com/events/details/cp-something-s-afoot-10-16-2009-1091
END:VEVENT

END:VCALENDAR
