BEGIN:VCALENDAR
VERSION:2.0
PRODID:-//ChamberMaster//Event Calendar 2.0//EN
METHOD:PUBLISH
X-PUBLISHED-TTL:P3D
REFRESH-INTERVAL:P3D
CALSCALE:GREGORIAN
BEGIN:VEVENT
DTSTART;VALUE=DATE:20100416
DTEND;VALUE=DATE:20100419
TRANSP:TRANSPARENT
X-MICROSOFT-CDO-ALLDAYEVENT:TRUE
SUMMARY:CP - ''The Cemetery Club''
DESCRIPTION:"The Cemetery Club"presented by Community Players\, Beatrice\, NE Production Dates: April 9\, 10 at 7:30 p.m.\nApril 11 at 2 p.m.\nApril 16\, 17 at 7:30 p.m.\nApril 18 at 2 p.m. Box Office Opens for First Nighter Patrons: March 26 \nBox Office opens for Season Ticket Holders: March 29\nBox Office opens for the General Public: April 5 You'll laugh at the antics of three zany widows in this comedy that has the wit of "The Golden Girls" and the heartfelt sentiment of "Steel Magnolias"\n\nThe Box Office is open weekdays from noon to 5:30 p.m. and two hours prior to performances.  Tickets can be purchased by stopping by the theatre\, calling 228-1801 or emailing us at boxoffice@beatricecommunityplayers.com\, including "ticket request" in the subject line.
X-ALT-DESC;FMTTYPE=text/html:<div><div><div><font size="4"><strong>&quot\;The Cemetery Club&quot\;</strong></font></div><div><font size="4"><strong>presented by Community Players\, Beatrice\, NE</strong></font></div><div>&nbsp\;</div><div><font size="4"><strong>Production Dates:</strong> April 9\, 10 at 7:30 p.m.<br />April 11 at 2 p.m.<br />April 16\, 17 at 7:30 p.m.<br />April 18 at 2 p.m. </font></div><p><font size="3"><b>Box Office Opens for First Nighter Patrons:</b> March 26 <br /><b>Box Office opens for Season Ticket Holders:</b> March 29<br /><b>Box Office opens for the General Public:</b> April 5 </font></p></div><div><span style="font-size: small">You&rsquo\;ll laugh at the antics of three zany widows in this comedy that has the wit of &quot\;The Golden Girls&quot\; and the heartfelt sentiment of &quot\;Steel Magnolias&quot\;</span><br /><br />The Box Office is open weekdays from noon to 5:30 p.m. and two hours prior to performances.&nbsp\; Tickets can be purchased by stopping by the theatre\, calling 228-1801 or emailing us at <a title="mailto:boxoffice@beatricecommunityplayers.com" shape="rect" target="_blank" style="color: blue\; text-decoration: underline" href="mailto:boxoffice@beatricecommunityplayers.com">boxoffice@beatricecommunityplayers.com</a>\, including &quot\;ticket request&quot\; in the subject line.&nbsp\;</div></div>
LOCATION:
UID:e.41.1097
SEQUENCE:3
DTSTAMP:20260425T135354Z
URL:https://business.beatricechamber.com/events/details/cp-the-cemetery-club-04-16-2010-1097
END:VEVENT

END:VCALENDAR
