BEGIN:VCALENDAR
VERSION:2.0
PRODID:-//ChamberMaster//Event Calendar 2.0//EN
METHOD:PUBLISH
X-PUBLISHED-TTL:P3D
REFRESH-INTERVAL:P3D
CALSCALE:GREGORIAN
BEGIN:VEVENT
DTSTART:20090721T233000Z
DTEND:20090722T013000Z
X-MICROSOFT-CDO-ALLDAYEVENT:FALSE
SUMMARY:CP Volunteer Appreciation Party & Community Players annual meeting
DESCRIPTION:Volunteer PartyFeaturing the "Phony" AwardsThis has been a TERRIFIC year at CP!  Join us to celebrate all the hard work during the entire 2008-2009 Season.  Special acknowledgement will be given to those who were in their first CP production this season. When: July 21 at 6:30 p.m.Where: The CP Theatre\, 412 Ella StreetPot luck dinner (bring your favorite dish)  Drinks and utensils will be provided. All this plus wacky entertainment and the presentation of the PHONY AWARDS -- a silly look back at the antics of the year. This event also serves as the CP annual membership meeting.  If you were a season ticket holder this year\, you are entitled to a vote for new members of the theatre's Board of Directors Don't forget to order your 2009-2010 Season Tickets! Questions?  Call 228-1801
X-ALT-DESC;FMTTYPE=text/html:<div><table id="content_LETTER.BLOCK8" hidefocus="hidefocus" tabindex="0" cellspacing="0" cellpadding="10" width="100%" bgcolor="#99cccc" border="0" aria-posinset="0" aria-setsize="0" aria-level="0" style="background-color: #99cccc"><tbody><tr><td align="left" style="font-size: 10pt\; color: #000000\; font-family: Arial\,Helvetica\,sans-serif"><font face="Arial\,Helvetica\,sans-serif" color="#000000" size="2" style="font-size: 10pt\; color: #000000\; font-family: Arial\,Helvetica\,sans-serif"><div style="font-size: 12pt\; color: #000066\; font-family: Arial\,Helvetica\,sans-serif" align="left"><font face="Arial\,Helvetica\,sans-serif" color="#000066" size="3" style="font-size: 12pt\; color: #000066\; font-family: Arial\,Helvetica\,sans-serif"><b>Volunteer Party</b></font></div><div><b>Featuring the &quot\;Phony&quot\; Awards</b></div></font></td></tr><tr><td valign="top" align="left" colspan="2" style="font-size: 10pt\; color: #000000\; font-family: Arial\,Helvetica\,sans-serif"><font face="Arial\,Helvetica\,sans-serif" color="#000000" size="2" style="font-size: 10pt\; color: #000000\; font-family: Arial\,Helvetica\,sans-serif"><div>This has been a TERRIFIC year at CP!&nbsp\; Join us to celebrate all the hard work during the entire 2008-2009 Season.&nbsp\; Special acknowledgement will be given to those who were in their first CP production this season.</div><div>&nbsp\;</div><div>When: July 21 at 6:30 p.m.</div><div>Where: The CP Theatre\, 412 Ella Street</div><div>Pot luck dinner&nbsp\;(bring your favorite dish)&nbsp\; Drinks and utensils will be provided.</div><div>&nbsp\;</div><div>All this plus wacky entertainment and the presentation of the PHONY AWARDS -- a silly look back at the antics of the year.</div><div>&nbsp\;</div><div><div>This event also serves as the CP annual membership meeting.&nbsp\; If you were a season ticket holder this year\, you are entitled to a vote for new members of the theatre's&nbsp\;Board of Directors</div><div>&nbsp\;</div><div>Don't forget to order your 2009-2010 Season Tickets!</div><div>&nbsp\;</div><div>Questions?&nbsp\; Call 228-1801</div></div></font></td></tr></tbody></table></div>
LOCATION:
UID:e.41.1292
SEQUENCE:3
DTSTAMP:20260426T030535Z
URL:https://business.beatricechamber.com/events/details/cp-volunteer-appreciation-party-community-players-annual-meeting-07-21-2009-1292
END:VEVENT

END:VCALENDAR
