BEGIN:VCALENDAR
VERSION:2.0
PRODID:-//ChamberMaster//Event Calendar 2.0//EN
METHOD:PUBLISH
X-PUBLISHED-TTL:P3D
REFRESH-INTERVAL:P3D
CALSCALE:GREGORIAN
BEGIN:VEVENT
DTSTART;VALUE=DATE:20091203
DTEND;VALUE=DATE:20091207
TRANSP:TRANSPARENT
X-MICROSOFT-CDO-ALLDAYEVENT:TRUE
SUMMARY:CP - ''Yes Virginia\, There Is a Santa Claus''
DESCRIPTION:Touching multi-generational family play based on the classic little girl's letter to a newspaper editor wondering if there is a Santa when the world is filled with troubles.
X-ALT-DESC;FMTTYPE=text/html:<div>Touching multi-generational family play based on the classic little girl's letter to a newspaper editor wondering if there is a Santa when the world is filled with troubles.</div>
LOCATION:
UID:e.41.1092
SEQUENCE:3
DTSTAMP:20260425T194416Z
URL:https://business.beatricechamber.com/events/details/cp-yes-virginia-there-is-a-santa-claus-12-03-2009-1092
END:VEVENT

END:VCALENDAR
