BEGIN:VCALENDAR
VERSION:2.0
PRODID:-//ChamberMaster//Event Calendar 2.0//EN
METHOD:PUBLISH
X-PUBLISHED-TTL:P3D
REFRESH-INTERVAL:P3D
CALSCALE:GREGORIAN
BEGIN:VEVENT
DTSTART:20091128T190000Z
DTEND:20091128T210000Z
X-MICROSOFT-CDO-ALLDAYEVENT:FALSE
SUMMARY:Craft Fair - Old West Trails Center Activity
DESCRIPTION:Featured Activity:Songs of the Season
X-ALT-DESC;FMTTYPE=text/html:<div>Featured Activity:</div><div>Songs of the Season</div>
LOCATION:301 Main StreetOdell\, NE 68415
UID:e.41.1308
SEQUENCE:3
DTSTAMP:20260425T204843Z
URL:https://business.beatricechamber.com/events/details/craft-fair-old-west-trails-center-activity-11-28-2009-1308
END:VEVENT

END:VCALENDAR
