BEGIN:VCALENDAR
VERSION:2.0
PRODID:-//ChamberMaster//Event Calendar 2.0//EN
METHOD:PUBLISH
X-PUBLISHED-TTL:P3D
REFRESH-INTERVAL:P3D
CALSCALE:GREGORIAN
BEGIN:VEVENT
DTSTART:20091212T150000Z
DTEND:20091212T220000Z
X-MICROSOFT-CDO-ALLDAYEVENT:FALSE
SUMMARY:Crafts on the Boulevard
DESCRIPTION:Beatrice High School Dance Teamsponsors craft fair onSaturday\, December 129:00 am - 4:00 pmCommons AreaBeatrice High School For booth information or questions\, please contact Wendie Meyerwmeyer@bpsne.org
X-ALT-DESC;FMTTYPE=text/html:<div>Beatrice High School Dance Team</div><div>sponsors craft fair on</div><div>Saturday\, December 12</div><div>9:00 am - 4:00 pm</div><div>Commons Area</div><div>Beatrice High School</div><div>&nbsp\;</div><div>For booth information or questions\, please contact Wendie Meyer</div><div><a href="mailto:wmeyer@bpsne.org">wmeyer@bpsne.org</a></div><div>&nbsp\;</div><div>&nbsp\;</div>
LOCATION:
UID:e.41.1554
SEQUENCE:3
DTSTAMP:20260425T193925Z
URL:https://business.beatricechamber.com/events/details/crafts-on-the-boulevard-12-12-2009-1554
END:VEVENT

END:VCALENDAR
