BEGIN:VCALENDAR
VERSION:2.0
PRODID:-//ChamberMaster//Event Calendar 2.0//EN
METHOD:PUBLISH
X-PUBLISHED-TTL:P3D
REFRESH-INTERVAL:P3D
CALSCALE:GREGORIAN
BEGIN:VEVENT
DTSTART;VALUE=DATE:20091105
DTEND;VALUE=DATE:20091109
TRANSP:TRANSPARENT
X-MICROSOFT-CDO-ALLDAYEVENT:TRUE
SUMMARY:Cranberry Junction Holiday Open House
DESCRIPTION:Cranberry Junction's 2nd Annual Holiday Open House!!\nSee the newest trends in country & primitive Holiday Decorating!!\nRegister to win great prizes!!
X-ALT-DESC;FMTTYPE=text/html:Cranberry Junction's 2nd Annual Holiday Open House!!\nSee the newest trends in country & primitive Holiday Decorating!!\nRegister to win great prizes!!
LOCATION:1201 East Court Beatrice\, NE 68310
UID:e.41.1499
SEQUENCE:3
DTSTAMP:20260425T205325Z
URL:https://business.beatricechamber.com/events/details/cranberry-junction-holiday-open-house-11-05-2009-1499
END:VEVENT

END:VCALENDAR
