BEGIN:VCALENDAR
VERSION:2.0
PRODID:-//ChamberMaster//Event Calendar 2.0//EN
METHOD:PUBLISH
X-PUBLISHED-TTL:P3D
REFRESH-INTERVAL:P3D
CALSCALE:GREGORIAN
BEGIN:VEVENT
DTSTART;VALUE=DATE:20101105
DTEND;VALUE=DATE:20101108
TRANSP:TRANSPARENT
X-MICROSOFT-CDO-ALLDAYEVENT:TRUE
SUMMARY:Cranberry Junction Holiday Open House
DESCRIPTION:Cranberry Junction Holiday Open House\n\n\n\nNovember 5th- 7th\n\n\n\nLots of new & unique items\n\nRegister for great giveaways\n\nNew primitives and handmades\n\nSample refreshments
X-ALT-DESC;FMTTYPE=text/html:<strong><span style="font-size: 14px">Cranberry Junction Holiday Open House</span><br />\n<br />\n<u>November 5th- 7th</u><br />\n<br />\nLots of new &amp\; unique items<br />\nRegister for great giveaways<br />\nNew primitives and handmades<br />\nSample refreshments</strong>
LOCATION:
UID:e.41.2767
SEQUENCE:3
DTSTAMP:20260425T032835Z
URL:https://business.beatricechamber.com/events/details/cranberry-junction-holiday-open-house-11-05-2010-2767
END:VEVENT

END:VCALENDAR
