BEGIN:VCALENDAR
VERSION:2.0
PRODID:-//ChamberMaster//Event Calendar 2.0//EN
METHOD:PUBLISH
X-PUBLISHED-TTL:P3D
REFRESH-INTERVAL:P3D
CALSCALE:GREGORIAN
BEGIN:VEVENT
DTSTART:20091121T150000Z
DTEND:20091122T030000Z
X-MICROSOFT-CDO-ALLDAYEVENT:FALSE
SUMMARY:Creative Memories Open House
DESCRIPTION:Join Wendy Kyser at the Senior Center (101 N 25th)for a 12 Hour Cropfeaturing Creative Memories402-228-4652 email:  cmwithwendy@diodecom.netwww.mycmsite.com/wkyser
X-ALT-DESC;FMTTYPE=text/html:<div>Join Wendy Kyser at the Senior Center (101&nbsp\;N 25th)</div><div>for a 12 Hour Crop</div><div>featuring Creative Memories</div><div>402-228-4652</div><div>&nbsp\;</div><div>email:&nbsp\; <a href="mailto:cmwithwendy@diodecom.net">cmwithwendy@diodecom.net</a></div><div><a href="http://www.mycmsite.com/wkyser">www.mycmsite.com/wkyser</a></div><div>&nbsp\;</div>
LOCATION:
UID:e.41.1546
SEQUENCE:3
DTSTAMP:20260425T210209Z
URL:https://business.beatricechamber.com/events/details/creative-memories-open-house-11-21-2009-1546
END:VEVENT

END:VCALENDAR
