BEGIN:VCALENDAR
VERSION:2.0
PRODID:-//ChamberMaster//Event Calendar 2.0//EN
METHOD:PUBLISH
X-PUBLISHED-TTL:P3D
REFRESH-INTERVAL:P3D
CALSCALE:GREGORIAN
BEGIN:VEVENT
DTSTART:20110507T220000Z
DTEND:20110507T050000Z
X-MICROSOFT-CDO-ALLDAYEVENT:FALSE
SUMMARY:Crohn's & Colitis Foundation of America "Take Steps"
DESCRIPTION:Crohn's & Colitis Foundation of America\, CCFA\, will be sponsoring the annual "Take Steps" walk to be held at 5:00p.m.\; on Saturday\, May 7st at Holmes Lake Park\, Lincoln\, NE.  To get registered\, contact Julie Schleufer Co-Chair for the event at 402-223-8104 (her business cell) or go on line to www.cctakesteps.org.
X-ALT-DESC;FMTTYPE=text/html:<p class="MsoNormal" style="margin: 0in 0in 10pt">\n	<font color="#000000"><font face="Times New Roman"><font size="3">Crohn&rsquo\;s &amp\; Colitis Foundation of America\, CCFA\, will be sponsoring the annual &ldquo\;Take Steps&rdquo\; walk to be held at 5:00p.m.\; on Saturday\, May 7</font><sup><font size="2">st</font></sup><font size="3"> at Holmes Lake Park\, Lincoln\, NE.<span style="mso-spacerun: yes">&nbsp\; </span>To get registered\, contact Julie Schleufer Co-Chair for the event at 402-223-8104 (her business cell) or go on line to </font></font></font><a href="http://www.cctakesteps.org"><font face="Times New Roman" size="3">www.cctakesteps.org</font></a><font color="#000000" face="Times New Roman" size="3">.</font></p>\n
LOCATION:Holmes Lake Park Lincoln\, NE
UID:e.41.4571
SEQUENCE:3
DTSTAMP:20260424T183421Z
URL:https://business.beatricechamber.com/events/details/crohn-s-colitis-foundation-of-america-take-steps-05-07-2011-4571
END:VEVENT

END:VCALENDAR
