BEGIN:VCALENDAR
VERSION:2.0
PRODID:-//ChamberMaster//Event Calendar 2.0//EN
METHOD:PUBLISH
X-PUBLISHED-TTL:P3D
REFRESH-INTERVAL:P3D
CALSCALE:GREGORIAN
BEGIN:VEVENT
DTSTART;VALUE=DATE:20090919
DTEND;VALUE=DATE:20090921
TRANSP:TRANSPARENT
X-MICROSOFT-CDO-ALLDAYEVENT:TRUE
SUMMARY:Croptoberfest Weekend Retreat with Creative Memories
DESCRIPTION:Croptoberfest Weekend RetreatWendy Kyser and Lana Meyer Creative Memories ConsultantsDates: Saturday\, September 19th 9:00 am to 2:30 am Sunday\, September 20th 7:00 am to 4:00pm.        Place: Holiday Inn Express- BeatriceCost: Both Days Saturday-9 am   Sunday    $40.00         Saturday 9 am   2:30                              $30.00               Sunday 7am - 4 pm                                  $25.00     Meals: Saturday Lunch Subway                       $5.00             Saturday Dinner Vals Lasagna                 $5.00              Sunday Lunch Taco Salad                         $5.00   Click Here for Registration Form
X-ALT-DESC;FMTTYPE=text/html:<div><div style="margin: 6pt 0in 0pt"><span style="font-size: 12pt\; color: #c00000"><div style="margin: 6pt 0in 0pt"><span style="font-size: 16pt\; color: #e36c0a">Croptoberfest Weekend Retreat</span></div><div style="margin: 6pt 0in 0pt"><span style="font-size: 16pt\; color: #e36c0a">Wendy Kyser and Lana Meyer </span></div><div style="margin: 6pt 0in 0pt"><span style="font-size: 16pt\; color: #e36c0a">Creative Memories Consultants</span></div></span></div><div style="margin: 6pt 0in 0pt"><span style="font-size: 12pt\; color: #c00000">Dates: Saturday\, September 19<sup>th</sup> 9:00 am to 2:30 am </span></div><div style="margin: 6pt 0in 0pt"><span style="font-size: 12pt\; color: #c00000">Sunday\, September 20<sup>th</sup> 7:00 am to 4:00pm.&nbsp\;&nbsp\;&nbsp\;&nbsp\;&nbsp\;&nbsp\;&nbsp\; </span></div><div style="margin: 6pt 0in 0pt"><span style="font-size: 12pt\; color: #c00000">Place: Holiday Inn Express- Beatrice</span></div><div style="margin: 6pt 0in 0pt"><span style="font-size: 12pt\; color: #4f6228">Cost: Both Days Saturday-9 am &ndash\; Sunday&nbsp\;&nbsp\;&nbsp\;&nbsp\;$40.00&nbsp\;&nbsp\;&nbsp\;</span></div><div style="margin: 6pt 0in 0pt"><span style="font-size: 12pt\; color: #4f6228">&nbsp\;&nbsp\;&nbsp\;&nbsp\;&nbsp\; Saturday 9 am &ndash\; 2:30&nbsp\;&nbsp\;&nbsp\;&nbsp\;&nbsp\;&nbsp\;&nbsp\;&nbsp\;&nbsp\;&nbsp\;&nbsp\;&nbsp\;&nbsp\;&nbsp\;&nbsp\;&nbsp\;&nbsp\;&nbsp\;&nbsp\;&nbsp\;&nbsp\;&nbsp\;&nbsp\;&nbsp\;&nbsp\;&nbsp\;&nbsp\;&nbsp\;&nbsp\;&nbsp\;$30.00&nbsp\;&nbsp\;&nbsp\;&nbsp\; &nbsp\;&nbsp\;&nbsp\;&nbsp\;</span></div><div style="margin: 6pt 0in 0pt"><span style="font-size: 12pt\; color: #4f6228">&nbsp\;&nbsp\;&nbsp\;&nbsp\;&nbsp\; Sunday 7am -&nbsp\;4 pm&nbsp\;&nbsp\;&nbsp\;&nbsp\;&nbsp\;&nbsp\;&nbsp\;&nbsp\;&nbsp\;&nbsp\;&nbsp\;&nbsp\;&nbsp\;&nbsp\;&nbsp\;&nbsp\;&nbsp\;&nbsp\;&nbsp\;&nbsp\;&nbsp\;&nbsp\;&nbsp\;&nbsp\;&nbsp\;&nbsp\;&nbsp\;&nbsp\;&nbsp\;&nbsp\;&nbsp\;&nbsp\;&nbsp\;&nbsp\;$25.00&nbsp\;&nbsp\;&nbsp\;&nbsp\; </span></div><div style="margin: 6pt 0in 0pt"><span style="font-size: 12pt\; color: #4f6228">Meals: Saturday Lunch Subway&nbsp\;&nbsp\;&nbsp\;&nbsp\;&nbsp\; &nbsp\;&nbsp\;&nbsp\;&nbsp\;&nbsp\;&nbsp\;&nbsp\;&nbsp\;&nbsp\;&nbsp\;&nbsp\;&nbsp\;&nbsp\;&nbsp\;&nbsp\;&nbsp\;&nbsp\;$5.00&nbsp\;&nbsp\;&nbsp\;&nbsp\;&nbsp\;&nbsp\;</span></div><div style="margin: 6pt 0in 0pt"><span style="font-size: 12pt\; color: #4f6228">&nbsp\;&nbsp\;&nbsp\;&nbsp\;&nbsp\; &nbsp\;Saturday Dinner Vals Lasagna&nbsp\;&nbsp\;&nbsp\;&nbsp\;&nbsp\;&nbsp\;&nbsp\;&nbsp\;&nbsp\;&nbsp\;&nbsp\;&nbsp\;&nbsp\;&nbsp\;&nbsp\;&nbsp\;&nbsp\;$5.00&nbsp\;&nbsp\;&nbsp\;&nbsp\;&nbsp\;&nbsp\;&nbsp\;</span></div><div style="margin: 6pt 0in 0pt"><span style="font-size: 12pt\; color: #4f6228">&nbsp\;&nbsp\;&nbsp\;&nbsp\;&nbsp\;&nbsp\; Sunday Lunch Taco Salad&nbsp\;&nbsp\;&nbsp\;&nbsp\;&nbsp\;&nbsp\;&nbsp\;&nbsp\;&nbsp\;&nbsp\;&nbsp\;&nbsp\;&nbsp\;&nbsp\;&nbsp\;&nbsp\;&nbsp\; &nbsp\;&nbsp\;&nbsp\;&nbsp\;&nbsp\;&nbsp\;&nbsp\;$5.00&nbsp\;&nbsp\;</span></div><div style="margin: 6pt 0in 0pt">&nbsp\;</div><div style="margin: 6pt 0in 0pt"><span style="font-size: 12pt\; color: #4f6228">Click Here for <a href="https://secure.chambermaster.com/FCKeditor/UserFiles/chambers/41/File/Croptoberfest%20invitation%20091909.pdf">Registration&nbsp\;Form&nbsp\;</a>&nbsp\;&nbsp\;&nbsp\;&nbsp\;</span></div></div>
LOCATION:
UID:e.41.1389
SEQUENCE:3
DTSTAMP:20260425T234058Z
URL:https://business.beatricechamber.com/events/details/croptoberfest-weekend-retreat-with-creative-memories-09-19-2009-1389
END:VEVENT

END:VCALENDAR
