BEGIN:VCALENDAR
VERSION:2.0
PRODID:-//ChamberMaster//Event Calendar 2.0//EN
METHOD:PUBLISH
X-PUBLISHED-TTL:P3D
REFRESH-INTERVAL:P3D
CALSCALE:GREGORIAN
BEGIN:VEVENT
DTSTART;VALUE=DATE:20091010
DTEND;VALUE=DATE:20091011
TRANSP:TRANSPARENT
X-MICROSOFT-CDO-ALLDAYEVENT:TRUE
SUMMARY:Croptoberfest Weekend Retreat with Creative Memories
DESCRIPTION:12- Hour Crop with Wendy Kyser Creative Memories ConsultantsDates: Saturday\, October 10thPlace: Holiday Inn Express- BeatriceCost:
X-ALT-DESC;FMTTYPE=text/html:<div><div style="margin: 6pt 0in 0pt"><span style="font-size: 12pt\; color: #c00000"><div style="margin: 6pt 0in 0pt"><span style="font-size: 16pt\; color: #e36c0a">12- Hour Crop with </span><span style="font-size: 16pt\; color: #e36c0a">Wendy Kyser </span></div><div style="margin: 6pt 0in 0pt"><span style="font-size: 16pt\; color: #e36c0a">Creative Memories Consultants</span></div></span></div><div style="margin: 6pt 0in 0pt"><span style="font-size: 12pt\; color: #c00000">Dates: Saturday\, October 10th</span></div><div style="margin: 6pt 0in 0pt"><span style="font-size: 12pt\; color: #c00000">Place: Holiday Inn Express- Beatrice</span></div><div style="margin: 6pt 0in 0pt"><span style="font-size: 12pt\; color: #4f6228">Cost:&nbsp\;</span></div></div>
LOCATION:
UID:e.41.1447
SEQUENCE:3
DTSTAMP:20260425T222226Z
URL:https://business.beatricechamber.com/events/details/croptoberfest-weekend-retreat-with-creative-memories-10-10-2009-1447
END:VEVENT

END:VCALENDAR
