BEGIN:VCALENDAR
VERSION:2.0
PRODID:-//ChamberMaster//Event Calendar 2.0//EN
METHOD:PUBLISH
X-PUBLISHED-TTL:P3D
REFRESH-INTERVAL:P3D
CALSCALE:GREGORIAN
BEGIN:VEVENT
DTSTART;VALUE=DATE:20101218
DTEND;VALUE=DATE:20101219
TRANSP:TRANSPARENT
X-MICROSOFT-CDO-ALLDAYEVENT:TRUE
SUMMARY:"Cross"
DESCRIPTION:Chris Lofing presents "Cross"\n\n\n\nSaturday\, December 18\n\n10 a.m. and 11:30 a.m.\n\n\n\nBeatrice Cinema Centre\, 615 Court Street\n\n\n\nFree admission - concessions available.  DVDs are $10 and include special features and outtakes.
X-ALT-DESC;FMTTYPE=text/html:Chris Lofing presents &quot\;Cross&quot\;<br />\n<br />\nSaturday\, December 18<br />\n10 a.m. and 11:30 a.m.<br />\n<br />\nBeatrice Cinema Centre\, 615 Court Street<br />\n<br />\nFree admission - concessions available.&nbsp\; DVDs are $10 and include special features and outtakes.
LOCATION:
UID:e.41.2926
SEQUENCE:3
DTSTAMP:20260425T013953Z
URL:https://business.beatricechamber.com/events/details/cross-12-18-2010-2926
END:VEVENT

END:VCALENDAR
