BEGIN:VCALENDAR
VERSION:2.0
PRODID:-//ChamberMaster//Event Calendar 2.0//EN
METHOD:PUBLISH
X-PUBLISHED-TTL:P3D
REFRESH-INTERVAL:P3D
CALSCALE:GREGORIAN
BEGIN:VEVENT
DTSTART;VALUE=DATE:20100523
DTEND;VALUE=DATE:20100524
TRANSP:TRANSPARENT
X-MICROSOFT-CDO-ALLDAYEVENT:TRUE
SUMMARY:Culpepper & Meriweather Circus
DESCRIPTION:Culpepper & Meriweather CircusSunday\, May 23 Wymore's Arbor State Park Advance discount tickets available: $9 for adults & $6 for children ages 2 to 12.  Tickets purchased at the circus are $12 for adults and $7 for children.  Tickets available in Wymore at Main Street Hair Design\, The Dog House\, Wymore State Bank and Tresures of Yesterday and Today.  Tickets will also be available in Beatrice at Pinnacle Bank\, Security First Bank\, and Beatrice Area Chamber of Commerce.
X-ALT-DESC;FMTTYPE=text/html:<div><strong><span style="font-size: small">Culpepper &amp\;&nbsp\;Meriweather Circus</span></strong></div><div><strong><span style="font-size: small">Sunday\, May 23</span></strong></div><div>&nbsp\;</div><div><span style="font-size: small">Wymore's Arbor State Park</span></div><div>&nbsp\;</div><div><span style="font-size: small">Advance discount tickets available:&nbsp\;$9 for adults &amp\;&nbsp\;$6 for children ages 2 to 12.&nbsp\; Tickets purchased at the circus are $12 for adults and $7 for children.&nbsp\; Tickets available in Wymore at Main Street Hair Design\, The Dog House\, Wymore State Bank and Tresures of Yesterday and Today.&nbsp\; Tickets will also be available in Beatrice at Pinnacle Bank\, Security First Bank\, and Beatrice Area Chamber of Commerce.</span></div>
LOCATION:
UID:e.41.1994
SEQUENCE:3
DTSTAMP:20260425T122621Z
URL:https://business.beatricechamber.com/events/details/culpepper-meriweather-circus-05-23-2010-1994
END:VEVENT

END:VCALENDAR
