BEGIN:VCALENDAR
VERSION:2.0
PRODID:-//ChamberMaster//Event Calendar 2.0//EN
METHOD:PUBLISH
X-PUBLISHED-TTL:P3D
REFRESH-INTERVAL:P3D
CALSCALE:GREGORIAN
BEGIN:VEVENT
DTSTART;VALUE=DATE:20100301
DTEND;VALUE=DATE:20100302
TRANSP:TRANSPARENT
X-MICROSOFT-CDO-ALLDAYEVENT:TRUE
SUMMARY:Curves Food Drive 3/1-31/2010
DESCRIPTION:Curves of BeatriceFood Drive for Local Families Freebies offered to both existing and potential members who participate! March 1-31\, 2010Curves of Beatrice is collectingnon-perishable items and monetary donations for food banks in the local area.  Members who donate a bag of groceries or make a minimum donation of $30 during the month of March will receive a reusable Curves grocery freezer bag for free.  Nonmembers who do likewise between March 8 and 20 can join Curves for free! For more information about Curves of Beatrice\, located at 2205 N 6th St.\, Indian Creek Mall\, Bay 10\, Beatrice\, and the Curves Food Drive\, contact Roasann Corey at 402-228-5999 or 97XT5RA3@curvesmail.com.
X-ALT-DESC;FMTTYPE=text/html:<div><span style="font-size: small">Curves of Beatrice</span></div><div><span style="font-size: small">Food Drive for Local Families</span></div><div>&nbsp\;</div><div><span style="font-size: small">Freebies offered to both existing and potential members who participate!</span></div><div>&nbsp\;</div><div><span style="font-size: small">March 1-31\, 2010</span></div><div>Curves of Beatrice is collectingnon-perishable items and monetary donations for food banks in the local area.&nbsp\; Members who donate a bag of groceries or make a minimum donation of $30 during the month of March will receive a reusable Curves grocery freezer bag for free.&nbsp\; Nonmembers who do likewise between March 8 and 20 can join Curves for free!</div><div>&nbsp\;</div><div>For more information about Curves of Beatrice\, located at 2205 N 6th St.\, Indian Creek Mall\, Bay 10\, Beatrice\, and the Curves Food Drive\, contact Roasann Corey at 402-228-5999 or <a href="mailto:97XT5RA3@curvesmail.com">97XT5RA3@curvesmail.com</a>.</div>
LOCATION:
UID:e.41.1644
SEQUENCE:3
DTSTAMP:20260425T153332Z
URL:https://business.beatricechamber.com/events/details/curves-food-drive-3-1-31-2010-03-01-2010-1644
END:VEVENT

END:VCALENDAR
