BEGIN:VCALENDAR
VERSION:2.0
PRODID:-//ChamberMaster//Event Calendar 2.0//EN
METHOD:PUBLISH
X-PUBLISHED-TTL:P3D
REFRESH-INTERVAL:P3D
CALSCALE:GREGORIAN
BEGIN:VEVENT
DTSTART;VALUE=DATE:20090709
DTEND;VALUE=DATE:20090710
TRANSP:TRANSPARENT
X-MICROSOFT-CDO-ALLDAYEVENT:TRUE
SUMMARY:Curves Open House
DESCRIPTION:Curious about Curves? Stop by on Thursday\, July 9th\, from 9 am to 6 pm and take a peek!  See what they have to offer!! Located at Indian Creek Mall\, 2205 N 6th.Healthy snacks will be served.Rosann and her staff will be celebrating the 1st anniversary of hte CurvesSmart personal coaching system.  For more information contact Rosann Corey at 228-5999jeraldandrosann@windstream.net
X-ALT-DESC;FMTTYPE=text/html:<div>Curious about Curves? Stop by on Thursday\, July 9th\, from 9 am to 6 pm&nbsp\;and take a peek!&nbsp\; See what they have to offer!!</div><div>&nbsp\;</div><div>Located at Indian Creek Mall\,&nbsp\;2205 N 6th.</div><div>Healthy snacks will be served.</div><div>Rosann and her staff will be celebrating the 1st anniversary of hte CurvesSmart personal coaching system.&nbsp\;</div><div>&nbsp\;</div><div>For more information contact Rosann Corey at 228-5999</div><div><a href="mailto:jeraldandrosann@windstream.net">jeraldandrosann@windstream.net</a></div>
LOCATION:
UID:e.41.1277
SEQUENCE:3
DTSTAMP:20260426T024939Z
URL:https://business.beatricechamber.com/events/details/curves-open-house-07-09-2009-1277
END:VEVENT

END:VCALENDAR
