BEGIN:VCALENDAR
VERSION:2.0
PRODID:-//ChamberMaster//Event Calendar 2.0//EN
METHOD:PUBLISH
X-PUBLISHED-TTL:P3D
REFRESH-INTERVAL:P3D
CALSCALE:GREGORIAN
BEGIN:VEVENT
DTSTART:20100223T150000Z
DTEND:20100224T003000Z
X-MICROSOFT-CDO-ALLDAYEVENT:FALSE
SUMMARY:Curves Open House - Heart Month
DESCRIPTION:Wear Your Red \n\nDrawing for prizes every half hour.   \n\nLearn about Healthy Heart\n\nReceive Free t-shirt if Joining with Special Promotion
X-ALT-DESC;FMTTYPE=text/html:Wear Your Red \n<br>Drawing for prizes every half hour.   \n<br>Learn about Healthy Heart\n<br>Receive Free t-shirt if Joining with Special Promotion
LOCATION:2205 N. 6th Indian Creek Mall Beatrice\, NE
UID:e.41.1651
SEQUENCE:3
DTSTAMP:20260425T165608Z
URL:https://business.beatricechamber.com/events/details/curves-open-house-heart-month-02-23-2010-1651
END:VEVENT

END:VCALENDAR
