BEGIN:VCALENDAR
VERSION:2.0
PRODID:-//ChamberMaster//Event Calendar 2.0//EN
METHOD:PUBLISH
X-PUBLISHED-TTL:P3D
REFRESH-INTERVAL:P3D
CALSCALE:GREGORIAN
BEGIN:VEVENT
DTSTART;VALUE=DATE:20120615
DTEND;VALUE=DATE:20120616
TRANSP:TRANSPARENT
X-MICROSOFT-CDO-ALLDAYEVENT:TRUE
SUMMARY:Customer Appreciation Day
DESCRIPTION:Great Western Bank will be hosting a customer appreciation day with snack and refreshments. We  appreciate you business\, so join us in celebrating you!
X-ALT-DESC;FMTTYPE=text/html:Great Western Bank will be hosting a customer appreciation day with snack and refreshments. We &nbsp\;appreciate you business\, so join us in celebrating you!
LOCATION:Great Western Bank 1000 Court St Beatrice\, NE
UID:e.41.5728
SEQUENCE:3
DTSTAMP:20260422T130939Z
URL:https://business.beatricechamber.com/events/details/customer-appreciation-day-06-15-2012-5728
END:VEVENT

END:VCALENDAR
