BEGIN:VCALENDAR
VERSION:2.0
PRODID:-//ChamberMaster//Event Calendar 2.0//EN
METHOD:PUBLISH
X-PUBLISHED-TTL:P3D
REFRESH-INTERVAL:P3D
CALSCALE:GREGORIAN
BEGIN:VEVENT
DTSTART:20110611T150000Z
DTEND:20110611T180000Z
X-MICROSOFT-CDO-ALLDAYEVENT:FALSE
SUMMARY:Customer Appreciation Open House at Beatrice Energy
DESCRIPTION:Have a Grandpa D's Hot Dog for lunch.  Bring your propane grill bottle for refilling\, and meet our new manager Jason Lovitt\, new employee Doug Pieper\, Anita\, and Jeff who will be serving you through these busy summer months.  $3 off propane grill bottles fill this Saturday.
X-ALT-DESC;FMTTYPE=text/html:Have a Grandpa D&#39\;s Hot Dog for lunch.&nbsp\; Bring your propane grill bottle for refilling\, and meet our new manager Jason Lovitt\, new employee Doug Pieper\, Anita\, and Jeff who will be serving you through these busy summer months.&nbsp\; $3 off propane grill bottles fill this Saturday.
LOCATION:Farmer's Cooperative\, Beatrice Energy\, 805 S. 6th\, Beatrice\, NE
UID:e.41.4868
SEQUENCE:3
DTSTAMP:20260424T165728Z
URL:https://business.beatricechamber.com/events/details/customer-appreciation-open-house-at-beatrice-energy-06-11-2011-4868
END:VEVENT

END:VCALENDAR
