BEGIN:VCALENDAR
VERSION:2.0
PRODID:-//ChamberMaster//Event Calendar 2.0//EN
METHOD:PUBLISH
X-PUBLISHED-TTL:P3D
REFRESH-INTERVAL:P3D
CALSCALE:GREGORIAN
BEGIN:VEVENT
DTSTART:20110717T140000Z
DTEND:20110717T210000Z
X-MICROSOFT-CDO-ALLDAYEVENT:FALSE
SUMMARY:Cystic Fibrosis Fundraiser to be held Aunt Mary's
DESCRIPTION:A Cystic Fibrosis Fundraiser for Jason and Michelle Ullman and Team U Force is being held for the Ullman children\, Sadee\, 7\, and Brody\, 2\, who both have CF.  Proceeds will go to their medical expenses and to the CF Foundation. \n\n\n\nThe event is Sunday\, July 17\, from 9 a.m.-4 p.m. at Aunt Mary's\, 111 S. 8th\, Beatrice.  There will be drawings\, prizes\, karoake\, games and numerous vendors who will be donating their comissions.\n\n\n\nMonetary donations can also be sent to Michelle Ullman\, 409 N. 9th St.\, Wymore\, NE  68466 or online at www.ourwishingwell.com/registries/view/240273538
X-ALT-DESC;FMTTYPE=text/html:A Cystic Fibrosis Fundraiser for Jason and Michelle Ullman and Team U Force is being held for the Ullman children\, Sadee\, 7\, and Brody\, 2\, who both have CF.&nbsp\; Proceeds will go to their medical expenses and to the CF Foundation.&nbsp\;<br />\n<br />\nThe event is Sunday\, July 17\, from 9 a.m.-4 p.m. at Aunt Mary&#39\;s\, 111 S. 8th\, Beatrice.&nbsp\; There will be drawings\, prizes\, karoake\, games and numerous vendors who will be donating their comissions.<br />\n<br />\nMonetary donations can also be sent to Michelle Ullman\, 409 N. 9th St.\, Wymore\, NE&nbsp\; 68466 or online at <a href="http://www.ourwishingwell.com/registries/view/240273538">www.ourwishingwell.com/registries/view/240273538</a>
LOCATION:
UID:e.41.4955
SEQUENCE:3
DTSTAMP:20260424T153554Z
URL:https://business.beatricechamber.com/events/details/cystic-fibrosis-fundraiser-to-be-held-aunt-mary-s-07-17-2011-4955
END:VEVENT

END:VCALENDAR
