BEGIN:VCALENDAR
VERSION:2.0
PRODID:-//ChamberMaster//Event Calendar 2.0//EN
METHOD:PUBLISH
X-PUBLISHED-TTL:P3D
REFRESH-INTERVAL:P3D
CALSCALE:GREGORIAN
BEGIN:VEVENT
DTSTART;VALUE=DATE:20090731
DTEND;VALUE=DATE:20090803
TRANSP:TRANSPARENT
X-MICROSOFT-CDO-ALLDAYEVENT:TRUE
SUMMARY:Czech Days
DESCRIPTION:Vit'ame V'asCzech Festival 2009Wilber\, NEThursday - Friday - Saturday - SundayJuly 30 - August 2 Vendors open for business at 1:00 Friday afternoonNo admission for bands\, dancers\, shows\, tractor pulls\, historical pageant\, programs\, talent contest\, Miss Czech-Slovak US Pageant\, Motorcycle show\, sand volleyball tournament & Parades
X-ALT-DESC;FMTTYPE=text/html:<div>Vit'ame V'as</div><div>Czech Festival 2009</div><div>Wilber\, NE</div><div>Thursday - Friday - Saturday - Sunday</div><div>July 30 - August 2</div><div>&nbsp\;</div><div>Vendors open for business at 1:00 Friday afternoon</div><div>No admission for bands\, dancers\, shows\, tractor pulls\, historical pageant\, programs\, talent contest\, Miss Czech-Slovak US&nbsp\;Pageant\, Motorcycle show\, sand volleyball tournament &amp\; Parades</div><div>&nbsp\;</div>
LOCATION:
UID:e.41.1347
SEQUENCE:3
DTSTAMP:20260426T011550Z
URL:https://business.beatricechamber.com/events/details/czech-days-07-31-2009-1347
END:VEVENT

END:VCALENDAR
