BEGIN:VCALENDAR
VERSION:2.0
PRODID:-//ChamberMaster//Event Calendar 2.0//EN
METHOD:PUBLISH
X-PUBLISHED-TTL:P3D
REFRESH-INTERVAL:P3D
CALSCALE:GREGORIAN
BEGIN:VEVENT
DTSTART;VALUE=DATE:20120114
DTEND;VALUE=DATE:20120115
TRANSP:TRANSPARENT
X-MICROSOFT-CDO-ALLDAYEVENT:TRUE
SUMMARY:Dance Party benefit for Damon Swarthout
DESCRIPTION:A "DJ for Damon" dance party fundraiser is planed for Sat. Jan. 14\, at the 429 Factory for 8pm-11pm.\n\nThere is a $5.00 cover charge for this event
X-ALT-DESC;FMTTYPE=text/html:A &quot\;DJ for Damon&quot\; dance party fundraiser is planed for Sat. Jan. 14\, at the 429 Factory for 8pm-11pm.<br />\nThere is a $5.00 cover charge for this event
LOCATION:
UID:e.41.5282
SEQUENCE:3
DTSTAMP:20260422T202630Z
URL:https://business.beatricechamber.com/events/details/dance-party-benefit-for-damon-swarthout-01-14-2012-5282
END:VEVENT

END:VCALENDAR
