BEGIN:VCALENDAR
VERSION:2.0
PRODID:-//ChamberMaster//Event Calendar 2.0//EN
METHOD:PUBLISH
X-PUBLISHED-TTL:P3D
REFRESH-INTERVAL:P3D
CALSCALE:GREGORIAN
BEGIN:VEVENT
DTSTART;VALUE=DATE:20110108
DTEND;VALUE=DATE:20110109
TRANSP:TRANSPARENT
X-MICROSOFT-CDO-ALLDAYEVENT:TRUE
SUMMARY:Darts Tourney @ The Rail
DESCRIPTION:Darts Tourney\n\nThe Rail\, 212 Court Street\n\nBeatrice\n\n\n\nSaturday\, January 8\n\nCheck-In at 11 a.m.
X-ALT-DESC;FMTTYPE=text/html:Darts Tourney<br />\nThe Rail\, 212 Court Street<br />\nBeatrice<br />\n<br />\nSaturday\, January 8<br />\nCheck-In at 11 a.m.
LOCATION:
UID:e.41.3154
SEQUENCE:3
DTSTAMP:20260425T003443Z
URL:https://business.beatricechamber.com/events/details/darts-tourney-the-rail-01-08-2011-3154
END:VEVENT

END:VCALENDAR
