BEGIN:VCALENDAR
VERSION:2.0
PRODID:-//ChamberMaster//Event Calendar 2.0//EN
METHOD:PUBLISH
X-PUBLISHED-TTL:P3D
REFRESH-INTERVAL:P3D
CALSCALE:GREGORIAN
BEGIN:VEVENT
DTSTART:20120601T230000Z
DTEND:20120602T030000Z
X-MICROSOFT-CDO-ALLDAYEVENT:FALSE
SUMMARY:Daykin 125th Celebration
DESCRIPTION:6 p.m. celebration kick-off at Freedom Field - evening activities include: beer garden & hamburger/brat feed\, coed sand volleyball tournament begins\, FREE bounce house and inflatables\, small carnival games\, "Bless Your Hearts" history presentation\, Cruise Night\, Cheerleading Camp\, Bingo\, Polka Bands with Milligan Czech Brass Band & Sue and the Blue River Czechs.
X-ALT-DESC;FMTTYPE=text/html:6 p.m.&nbsp\;celebration kick-off&nbsp\;at Freedom Field -&nbsp\;evening&nbsp\;activities&nbsp\;include: beer garden&nbsp\;&amp\;&nbsp\;hamburger/brat feed\,&nbsp\;coed&nbsp\;sand&nbsp\;volleyball tournament begins\, FREE bounce&nbsp\;house and inflatables\,&nbsp\;small carnival&nbsp\;games\, &quot\;Bless Your&nbsp\;Hearts&quot\;&nbsp\;history presentation\, Cruise Night\, Cheerleading Camp\, Bingo\, Polka Bands&nbsp\;with Milligan&nbsp\;Czech Brass&nbsp\;Band&nbsp\;&amp\;&nbsp\;Sue and the Blue&nbsp\;River Czechs.&nbsp\;
LOCATION:
UID:e.41.5711
SEQUENCE:3
DTSTAMP:20260422T130946Z
URL:https://business.beatricechamber.com/events/details/daykin-125th-celebration-06-01-2012-5711
END:VEVENT

END:VCALENDAR
