BEGIN:VCALENDAR
VERSION:2.0
PRODID:-//ChamberMaster//Event Calendar 2.0//EN
METHOD:PUBLISH
X-PUBLISHED-TTL:P3D
REFRESH-INTERVAL:P3D
CALSCALE:GREGORIAN
BEGIN:VEVENT
DTSTART:20120602T120000Z
DTEND:20120603T053000Z
X-MICROSOFT-CDO-ALLDAYEVENT:FALSE
SUMMARY:Daykin 125th Celebration
DESCRIPTION:Activities throughout the day include: 7-10 a.m. breakfast\, 7 a.m.-noon Daykin Memorabilia & Time Capsule\, 7:45 a.m. Fun Run/Walk\, 9 a.m. Coed Sand Volleyball Tournament resume\, 10 a.m. beer garden opens\, 10:30 a.m. bed races\, 11 a.m.-2 p.m. kids inflatable games\, 11:30 a.m.-1:30 p.m. hamburger/brat feed\, 12:30 p.m. cheerleader's performance\, 1:30 p.m. Little Tugger's Tractor Pull\, 3:30 p.m. "Turning Towards the future" parade\, 7 p.m. comedian\, 8 p.m. Daykin 100 & 125 Quilt Auction\, 8:30 p.m. 12:30 a.m. Dance to Fancy Free\, 9:45 p.m. fireworks.
X-ALT-DESC;FMTTYPE=text/html:<p>\n	Activities throughout&nbsp\;the day include: 7-10&nbsp\;a.m. breakfast\, 7 a.m.-noon&nbsp\;Daykin Memorabilia&nbsp\;&amp\; Time Capsule\,&nbsp\;7:45 a.m.&nbsp\;Fun Run/Walk\, 9&nbsp\;a.m. Coed Sand Volleyball Tournament resume\,&nbsp\;10 a.m. beer garden opens\,&nbsp\;10:30 a.m. bed&nbsp\;races\,&nbsp\;11 a.m.-2 p.m. kids&nbsp\;inflatable games\, 11:30 a.m.-1:30 p.m. hamburger/brat feed\, 12:30 p.m. cheerleader&#39\;s&nbsp\;performance\, 1:30&nbsp\;p.m. Little Tugger&#39\;s&nbsp\;Tractor Pull\, 3:30 p.m. &quot\;Turning&nbsp\;Towards the future&quot\; parade\, 7&nbsp\;p.m. comedian\,&nbsp\;8 p.m. Daykin 100&nbsp\;&amp\; 125&nbsp\;Quilt&nbsp\;Auction\,&nbsp\;8:30 p.m. 12:30 a.m.&nbsp\;Dance to Fancy&nbsp\;Free\,&nbsp\;9:45 p.m. fireworks.</p>\n
LOCATION:
UID:e.41.5716
SEQUENCE:3
DTSTAMP:20260422T130946Z
URL:https://business.beatricechamber.com/events/details/daykin-125th-celebration-06-02-2012-5716
END:VEVENT

END:VCALENDAR
