BEGIN:VCALENDAR
VERSION:2.0
PRODID:-//ChamberMaster//Event Calendar 2.0//EN
METHOD:PUBLISH
X-PUBLISHED-TTL:P3D
REFRESH-INTERVAL:P3D
CALSCALE:GREGORIAN
BEGIN:VEVENT
DTSTART:20110303T160000Z
DTEND:20110303T160000Z
X-MICROSOFT-CDO-ALLDAYEVENT:FALSE
SUMMARY:Deines Pharmacy Ribbon Cutting
DESCRIPTION:Celebrating 20 years in Business
X-ALT-DESC;FMTTYPE=text/html:Celebrating 20 years in Business
LOCATION:910 Court Street
UID:e.41.4208
SEQUENCE:3
DTSTAMP:20260424T211831Z
URL:https://business.beatricechamber.com/events/details/deines-pharmacy-ribbon-cutting-03-03-2011-4208
END:VEVENT

END:VCALENDAR
