BEGIN:VCALENDAR
VERSION:2.0
PRODID:-//ChamberMaster//Event Calendar 2.0//EN
METHOD:PUBLISH
X-PUBLISHED-TTL:P3D
REFRESH-INTERVAL:P3D
CALSCALE:GREGORIAN
BEGIN:VEVENT
DTSTART:20110311T160000Z
DTEND:20110312T043000Z
X-MICROSOFT-CDO-ALLDAYEVENT:FALSE
SUMMARY:Deines Pharmacy Ribbon Cutting
DESCRIPTION:Ambassadors Ribbon Cutting\n\nDeines Pharmacy\, Celebrating 20 years!\n\n\n\nFriday\, March 11\n\n10 a.m.\n\n\n\n910 Court Street\n\nBeatrice\, NE  68310\n\n\n\nwww.deinespharmacy.com
X-ALT-DESC;FMTTYPE=text/html:Ambassadors Ribbon Cutting<br />\nDeines Pharmacy\, Celebrating 20 years!<br />\n<br />\nFriday\, March 11<br />\n10 a.m.<br />\n<br />\n910 Court Street<br />\nBeatrice\, NE&nbsp\; 68310<br />\n<br />\n<a href="http://www.deinespharmacy.com">www.deinespharmacy.com</a>
LOCATION:
UID:e.41.4212
SEQUENCE:3
DTSTAMP:20260424T212125Z
URL:https://business.beatricechamber.com/events/details/deines-pharmacy-ribbon-cutting-03-11-2011-4212
END:VEVENT

END:VCALENDAR
