BEGIN:VCALENDAR
VERSION:2.0
PRODID:-//ChamberMaster//Event Calendar 2.0//EN
METHOD:PUBLISH
X-PUBLISHED-TTL:P3D
REFRESH-INTERVAL:P3D
CALSCALE:GREGORIAN
BEGIN:VEVENT
DTSTART;VALUE=DATE:20110507
DTEND;VALUE=DATE:20110508
TRANSP:TRANSPARENT
X-MICROSOFT-CDO-ALLDAYEVENT:TRUE
SUMMARY:Derby Day
DESCRIPTION:First annual Derby Day event aims to raise awareness of Williams Sundrome. The DeWitt Derby will feature a horse and hat making station in honor of Kentucky Derby. Race car drivers will be present to meet with those in attendence. Multiple vendors from across Lincoln and Omaha will give away small gifts and provide information on the services they offer. The derby will offer to contribute to Williams Syndrome research. A silent auction will also auction off Husker memorabilia\, including signed footballs\, jerseys and posters\; NFL memorabilia\; Kansas Jayhawk memorabilia\; restaurant gift  cards\, hotel stays\; limousine rides\; mall gift cards and services from salons\, therapy clinics and auto shops.
X-ALT-DESC;FMTTYPE=text/html:<p>\n	First annual Derby Day event aims to raise awareness of Williams Sundrome. The DeWitt Derby will feature a horse and hat making station in honor of Kentucky Derby. Race car drivers will be present to meet with those in attendence. Multiple vendors from across Lincoln and Omaha will give away small gifts and provide information on the services they offer. The derby will offer to contribute to Williams Syndrome research. A silent auction will also auction off Husker memorabilia\, including signed footballs\, jerseys and posters\; NFL memorabilia\; Kansas Jayhawk memorabilia\; restaurant gift&nbsp\; cards\, hotel stays\; limousine rides\; mall gift cards and services from salons\, therapy clinics and auto shops.</p>\n
LOCATION:
UID:e.41.4623
SEQUENCE:3
DTSTAMP:20260424T182210Z
URL:https://business.beatricechamber.com/events/details/derby-day-05-07-2011-4623
END:VEVENT

END:VCALENDAR
