BEGIN:VCALENDAR
VERSION:2.0
PRODID:-//ChamberMaster//Event Calendar 2.0//EN
METHOD:PUBLISH
X-PUBLISHED-TTL:P3D
REFRESH-INTERVAL:P3D
CALSCALE:GREGORIAN
BEGIN:VEVENT
DTSTART:20100319T233000Z
DTEND:20100319T170000Z
X-MICROSOFT-CDO-ALLDAYEVENT:FALSE
SUMMARY:Dessert Auction ''Doggie Disco''
DESCRIPTION:"Doggie Disco""Pawsitively Desserts...And More "Beatrice Humane Society Dessert Auction Friday\, March 19\, 2010Holiday Inn Express6:30 p.m. Everyone is invited\, Donation Levels of $25\, $50\, $100 available.Contact the Beatrice Humane Society for more information.
X-ALT-DESC;FMTTYPE=text/html:<div>&quot\;Doggie Disco&quot\;</div><div>&quot\;Pawsitively Desserts...And More &quot\;Beatrice Humane Society Dessert Auction</div><div>&nbsp\;</div><div>Friday\, March 19\, 2010</div><div>Holiday Inn Express</div><div>6:30 p.m.</div><div>&nbsp\;</div><div>Everyone is invited\, Donation Levels of $25\, $50\, $100 available.</div><div>Contact the Beatrice Humane Society for more information.</div><div>&nbsp\;</div><div>&nbsp\;</div><div>&nbsp\;</div>
LOCATION:Holiday Inn Express
UID:e.41.1569
SEQUENCE:3
DTSTAMP:20260425T153506Z
URL:https://business.beatricechamber.com/events/details/dessert-auction-doggie-disco-03-19-2010-1569
END:VEVENT

END:VCALENDAR
