BEGIN:VCALENDAR
VERSION:2.0
PRODID:-//ChamberMaster//Event Calendar 2.0//EN
METHOD:PUBLISH
X-PUBLISHED-TTL:P3D
REFRESH-INTERVAL:P3D
CALSCALE:GREGORIAN
BEGIN:VEVENT
DTSTART:20120107T150000Z
DTEND:20120107T160000Z
X-MICROSOFT-CDO-ALLDAYEVENT:FALSE
SUMMARY:Device Workshop
DESCRIPTION:With a recent study showing a nearly 80 percent increase in smartphone shipments from a year ago\, there are plenty of first-time smartphone users who may want a little help figuring out everything their advanced devices have to offer. U.S. Cellular is hosting a free workshop to guide attendees through all of the features and functions of the company's smartphone and mobile tablet lineup\, including the Android-powered Motorola ELECTRIFY\, HTC 7 Pro Windows Phone and BlackBerry Torch 9850. All questions are welcome from current and potential smartphone and tablet users. Attendees don't have to be a U.S. Cellular customer. Please call 402-223-4560 to RSVP.\n\n	"Smartphones keep customers connected and organized on-the-go by making it easy to stay on top of schedules and keep in touch with the people and information that is important to them\," said Mike Adams\, director of sales for U.S. Cellular in Nebraska. "Customers who switch to U.S. Cellular enjoy many benefits such as a valuable rewards program that recognizes customer loyalty and new phones faster without continuously signing contracts\, and join the happiest customers in wireless."
X-ALT-DESC;FMTTYPE=text/html:<p class="MsoNormal" style="line-height: 150%\; text-indent: 0.5in\; margin: 0in 0in 0pt">\n	<font color="#000000"><span style="line-height: 150%\; font-size: 11pt\; mso-fareast-font-family: batang\; mso-fareast-language: ko"><font face="Times New Roman">With a recent study showing a nearly 80 percent increase in smartphone shipments from a year ago\, there are plenty of first-time smartphone users who may want a little help figuring out everything their advanced devices have to offer.</font></span><span style="line-height: 150%\; font-family: 'arial'\, 'sans-serif'\; font-size: 11pt\; mso-fareast-font-family: batang\; mso-fareast-language: ko"> </span><font face="Times New Roman"><span style="line-height: 150%\; font-size: 11pt\; mso-fareast-font-family: batang\; mso-fareast-language: ko">U.S. Cellular is hosting a free workshop </span><span style="line-height: 150%\; font-size: 11pt\; mso-fareast-font-family: batang\; mso-fareast-language: ko">to guide attendees through all of the features and functions of the company&rsquo\;s smartphone and mobile tablet lineup\, including the Android-powered Motorola ELECTRIFY\, HTC 7 Pro Windows Phone and BlackBerry Torch 9850. All questions are welcome from current and potential smartphone and tablet users. Attendees don&rsquo\;t have to be a U.S. Cellular customer. Please call 402-223-4560 </span><span style="line-height: 150%\; font-size: 11pt">to RSVP.</span><span style="line-height: 150%\; font-size: 11pt\; mso-fareast-font-family: batang\; mso-fareast-language: ko"><o:p></o:p></span></font></font></p>\n<p class="MsoNormal" style="line-height: 150%\; text-indent: 0.5in\; margin: 0in 0in 0pt\; mso-layout-grid-align: auto\; punctuation-wrap: hanging\; mso-vertical-align-alt: auto">\n	<span style="line-height: 150%\; font-size: 11pt"><font color="#000000"><font face="Times New Roman">&ldquo\;Smartphones keep customers connected and organized on-the-go by making it easy to stay on top of schedules and keep in touch with the people and information that is important to them\,&rdquo\; said Mike Adams\, director of sales for U.S. Cellular in Nebraska. &ldquo\;Customers who switch to U.S. Cellular enjoy many benefits such as a valuable rewards program that recognizes customer loyalty and new phones faster without continuously signing contracts\, and join the happiest customers in wireless.&rdquo\;<o:p></o:p></font></font></span></p>\n
LOCATION:U.S. Cellular 1211 N. Sixth St. Beatrice
UID:e.41.5275
SEQUENCE:3
DTSTAMP:20260422T201704Z
URL:https://business.beatricechamber.com/events/details/device-workshop-01-07-2012-5275
END:VEVENT

END:VCALENDAR
