BEGIN:VCALENDAR
VERSION:2.0
PRODID:-//ChamberMaster//Event Calendar 2.0//EN
METHOD:PUBLISH
X-PUBLISHED-TTL:P3D
REFRESH-INTERVAL:P3D
CALSCALE:GREGORIAN
BEGIN:VEVENT
DTSTART:20110518T140000Z
DTEND:20110518T150000Z
X-MICROSOFT-CDO-ALLDAYEVENT:FALSE
SUMMARY:Device Workshop
DESCRIPTION:UBS Investment Research estimates that 49 percent of U.S. wireless subscribers will have a smartphone in 2011\, up from 35 percent at the end of 2010. U.S. Cellular is hosting a free workshop to guide customers through all of the functions and features of its Android-powered devices\, BlackBerry and Windows smartphones. All questions are welcome from current and potential smartphone users. The workshop will cover both basic and advanced uses.\n\n	Associates will answer questions and demonstrate common features\, such as email access\, web browsing\, calendar synchronization and browsing for apps. Please call 402-223-4560 to RSVP for the Device Workshop.
X-ALT-DESC;FMTTYPE=text/html:<p class="MsoNormal" style="line-height: 150%\; text-indent: 0.5in\; margin: 0in 0in 0pt">\n	<font color="#000000"><span style="line-height: 150%\; font-size: 11pt\; mso-fareast-font-family: batang\; mso-fareast-language: ko"><font face="Times New Roman">UBS Investment Research estimates that 49 percent of <st1:place w:st="on"><st1:country-region w:st="on">U.S.</st1:country-region></st1:place> wireless subscribers will have a smartphone in 2011\, up from 35 percent at the end of 2010.</font></span><span style="line-height: 150%\; font-family: arial\; font-size: 11pt\; mso-fareast-font-family: batang\; mso-fareast-language: ko"> </span><span style="line-height: 150%\; font-size: 11pt\; mso-fareast-font-family: batang\; mso-fareast-language: ko"><font face="Times New Roman">U.S. Cellular is hosting a free workshop to guide customers through all of the functions and features of its Android-powered devices\, BlackBerry and Windows smartphones. All questions are welcome from current and potential smartphone users. The workshop will cover both basic and advanced uses.<o:p></o:p></font></span></font></p>\n<p class="MsoNormal" style="line-height: 150%\; text-indent: 0.5in\; margin: 0in 0in 0pt">\n	<span style="line-height: 150%\; font-size: 11pt\; mso-fareast-font-family: batang\; mso-fareast-language: ko"><font color="#000000"><font face="Times New Roman">Associates will answer questions and demonstrate common features\, such as email access\, web browsing\, calendar synchronization and browsing for apps. Please call 402-223-4560 to RSVP for the Device Workshop.<o:p></o:p></font></font></span></p>\n
LOCATION:U.S. Cellular 1211 N. Sixth St.
UID:e.41.4824
SEQUENCE:3
DTSTAMP:20260424T182027Z
URL:https://business.beatricechamber.com/events/details/device-workshop-05-18-2011-4824
END:VEVENT

END:VCALENDAR
