BEGIN:VCALENDAR
VERSION:2.0
PRODID:-//ChamberMaster//Event Calendar 2.0//EN
METHOD:PUBLISH
X-PUBLISHED-TTL:P3D
REFRESH-INTERVAL:P3D
CALSCALE:GREGORIAN
BEGIN:VEVENT
DTSTART:20111001T140000Z
DTEND:20111001T150000Z
X-MICROSOFT-CDO-ALLDAYEVENT:FALSE
SUMMARY:Device Workshop
DESCRIPTION:According to a recent study by Pew Research Center\, more than 35 million Americans are smartphone users\, with more than one quarter of the group using their phones for most\, if not all\, of their Internet access. If you are among this group or are interested in learning how a smartphone can simplify your life\, U.S. Cellular will offer a free Device Workshop. U.S. Cellular associates will help attendees maximize all the features on Android-powered\, Windows Phone and BlackBerry devices. The workshop is open to everyone. Please call 402-223-4560 to RSVP.
X-ALT-DESC;FMTTYPE=text/html:<font color="#000000"><span style="font-family: 'times new roman'\, 'serif'\; font-size: 12pt\; mso-fareast-font-family: 'times new roman'\; mso-ansi-language: en-us\; mso-fareast-language: en-us\; mso-bidi-language: ar-sa">According to a recent study by Pew Research Center\, more than 35 million Americans are smartphone users\, with more than one quarter of the group using their phones for most\, if not all\, of their Internet access. If you are among this group or are interested in learning how a smartphone can simplify your life\, U.S. Cellular will offer a free Device Workshop. U.S. Cellular associates will help attendees maximize all the features on </span><span style="font-family: 'times new roman'\, 'serif'\; font-size: 11pt\; mso-fareast-font-family: batang\; mso-ansi-language: en-us\; mso-fareast-language: ko\; mso-bidi-language: ar-sa">Android-powered\, Windows Phone and BlackBerry devices. The workshop is </span><span style="font-family: 'times new roman'\, 'serif'\; font-size: 12pt\; mso-fareast-font-family: 'times new roman'\; mso-ansi-language: en-us\; mso-fareast-language: en-us\; mso-bidi-language: ar-sa">open to everyone. Please call 402-223-4560 to RSVP.</span></font>
LOCATION:U.S. Cellular 1211 N. Sixth St. Beatrice
UID:e.41.5129
SEQUENCE:3
DTSTAMP:20260424T110010Z
URL:https://business.beatricechamber.com/events/details/device-workshop-10-01-2011-5129
END:VEVENT

END:VCALENDAR
