BEGIN:VCALENDAR
VERSION:2.0
PRODID:-//ChamberMaster//Event Calendar 2.0//EN
METHOD:PUBLISH
X-PUBLISHED-TTL:P3D
REFRESH-INTERVAL:P3D
CALSCALE:GREGORIAN
BEGIN:VEVENT
DTSTART;VALUE=DATE:20120630
DTEND;VALUE=DATE:20120701
TRANSP:TRANSPARENT
X-MICROSOFT-CDO-ALLDAYEVENT:TRUE
SUMMARY:DeWitt Celebration
DESCRIPTION:DeWitt Celebration\n\nSaturday\, June 30\n\n\n\nInflatables\, Kid games\, Water Fights\, Car & Tractor Show\, Live Music\, Food\, Face Painting\, Free Swimming\, Parade\, Out House Races\, Huge Fireworks Display.\n\n\n\nSo much going on through whole day - too much to list!
X-ALT-DESC;FMTTYPE=text/html:DeWitt Celebration<br />\nSaturday\, June 30<br />\n<br />\nInflatables\,&nbsp\;Kid&nbsp\;games\, Water Fights\, Car &amp\; Tractor Show\,&nbsp\;Live Music\, Food\, Face Painting\,&nbsp\;Free Swimming\,&nbsp\;Parade\, Out House Races\, Huge Fireworks Display.<br />\n<br />\nSo much going on through whole day - too much to list!
LOCATION:
UID:e.41.5741
SEQUENCE:3
DTSTAMP:20260422T130813Z
URL:https://business.beatricechamber.com/events/details/dewitt-celebration-06-30-2012-5741
END:VEVENT

END:VCALENDAR
