BEGIN:VCALENDAR
VERSION:2.0
PRODID:-//ChamberMaster//Event Calendar 2.0//EN
METHOD:PUBLISH
X-PUBLISHED-TTL:P3D
REFRESH-INTERVAL:P3D
CALSCALE:GREGORIAN
BEGIN:VEVENT
DTSTART:20101119T223000Z
DTEND:20101120T010000Z
X-MICROSOFT-CDO-ALLDAYEVENT:FALSE
SUMMARY:DeWitt Community Annual Pancake Feed
DESCRIPTION:DeWitt Community Club Annual Pancake Feed\n\n\n\n4:30-7 p.m. Dewitt Community Center\n\n\n\nFree will offering and/or canned goods for the food pantry will be accepted.
X-ALT-DESC;FMTTYPE=text/html:<strong><span style="font-size: 14px">DeWitt Community Club Annual Pancake Feed</span></strong><br />\n<br />\n4:30-7 p.m. Dewitt Community Center<br />\n<br />\nFree will offering and/or canned goods for the food pantry will be accepted.
LOCATION:
UID:e.41.2800
SEQUENCE:3
DTSTAMP:20260425T032509Z
URL:https://business.beatricechamber.com/events/details/dewitt-community-annual-pancake-feed-11-19-2010-2800
END:VEVENT

END:VCALENDAR
