BEGIN:VCALENDAR
VERSION:2.0
PRODID:-//ChamberMaster//Event Calendar 2.0//EN
METHOD:PUBLISH
X-PUBLISHED-TTL:P3D
REFRESH-INTERVAL:P3D
CALSCALE:GREGORIAN
BEGIN:VEVENT
DTSTART:20101114T170000Z
DTEND:20101114T210000Z
X-MICROSOFT-CDO-ALLDAYEVENT:FALSE
SUMMARY:DeWitt Craft Fair
DESCRIPTION:DeWitt Craft Fair\n\n\n\n11 a.m. - 3 p.m.  DeWitt Community Center. Have lunch and do some Christmas shopping with local crafters selling gift baskets\, wreaths\, candies\, cookies\, jams/jellies\, peppernuts\, wooden toys & crosses\, purses\, jewelry\, cosmetics\, RADA cutlery & other homemade items. Door prizes.
X-ALT-DESC;FMTTYPE=text/html:<strong><span style="font-size: 14px">DeWitt Craft Fair</span></strong><br />\n<br />\n11 a.m. - 3 p.m.&nbsp\; DeWitt Community Center. Have lunch and do some Christmas shopping with local crafters selling gift baskets\, wreaths\, candies\, cookies\, jams/jellies\, peppernuts\, wooden toys &amp\; crosses\, purses\, jewelry\, cosmetics\, RADA cutlery &amp\; other homemade items. Door prizes.
LOCATION:
UID:e.41.2797
SEQUENCE:3
DTSTAMP:20260425T032347Z
URL:https://business.beatricechamber.com/events/details/dewitt-craft-fair-11-14-2010-2797
END:VEVENT

END:VCALENDAR
