BEGIN:VCALENDAR
VERSION:2.0
PRODID:-//ChamberMaster//Event Calendar 2.0//EN
METHOD:PUBLISH
X-PUBLISHED-TTL:P3D
REFRESH-INTERVAL:P3D
CALSCALE:GREGORIAN
BEGIN:VEVENT
DTSTART;VALUE=DATE:20111113
DTEND;VALUE=DATE:20111114
TRANSP:TRANSPARENT
X-MICROSOFT-CDO-ALLDAYEVENT:TRUE
SUMMARY:DeWitt Craft Show
DESCRIPTION:DeWitt Craft Show\n\n	\n\n	Sunday\, November 13\n\n	10 am - 3 pm\n\n	\n\n	DeWitt Community Center\n\n	\n\n	Door Prizes!  Lunch Available! \n\n	 \n\n	Over 30 booths!
X-ALT-DESC;FMTTYPE=text/html:<p>\n	DeWitt Craft Show<br />\n	<br />\n	Sunday\, November 13<br />\n	10 am - 3 pm<br />\n	<br />\n	DeWitt Community Center<br />\n	<br />\n	Door Prizes!&nbsp\; Lunch Available!&nbsp\;<br />\n	&nbsp\;</p>\n<p>\n	Over 30 booths!</p>\n
LOCATION:
UID:e.41.5248
SEQUENCE:3
DTSTAMP:20260424T095850Z
URL:https://business.beatricechamber.com/events/details/dewitt-craft-show-11-13-2011-5248
END:VEVENT

END:VCALENDAR
