BEGIN:VCALENDAR
VERSION:2.0
PRODID:-//ChamberMaster//Event Calendar 2.0//EN
METHOD:PUBLISH
X-PUBLISHED-TTL:P3D
REFRESH-INTERVAL:P3D
CALSCALE:GREGORIAN
BEGIN:VEVENT
DTSTART;VALUE=DATE:20090703
DTEND;VALUE=DATE:20090706
TRANSP:TRANSPARENT
X-MICROSOFT-CDO-ALLDAYEVENT:TRUE
SUMMARY:DeWitt July Celebration 2009
DESCRIPTION:Friday July 3Registration for Poker Run at RJ's  5:30-6:30pm Saturday\, July 4Car show\, sand volleyball\, food stands\, kids games\, cow pie bingo\, gun club\, water fight\, fireman's waterfight\, chicken bbq\, Yesterday's Lady\, parade\, raffle drawing\, fireworks Sunday\, July 5coffee and donuts\, community church service
X-ALT-DESC;FMTTYPE=text/html:<div>Friday July 3</div><div>Registration for Poker Run at RJ's&nbsp\; 5:30-6:30pm</div><div>&nbsp\;</div><div>Saturday\, July 4</div><div>Car show\, sand volleyball\, food stands\, kids games\, cow pie bingo\, gun club\, water fight\, fireman's waterfight\, chicken bbq\, Yesterday's Lady\, parade\, raffle drawing\, fireworks</div><div>&nbsp\;</div><div>Sunday\, July 5</div><div>coffee and donuts\, community church service</div>
LOCATION:
UID:e.41.1260
SEQUENCE:3
DTSTAMP:20260426T024918Z
URL:https://business.beatricechamber.com/events/details/dewitt-july-celebration-2009-07-03-2009-1260
END:VEVENT

END:VCALENDAR
