BEGIN:VCALENDAR
VERSION:2.0
PRODID:-//ChamberMaster//Event Calendar 2.0//EN
METHOD:PUBLISH
X-PUBLISHED-TTL:P3D
REFRESH-INTERVAL:P3D
CALSCALE:GREGORIAN
BEGIN:VEVENT
DTSTART;VALUE=DATE:20110701
DTEND;VALUE=DATE:20110705
TRANSP:TRANSPARENT
X-MICROSOFT-CDO-ALLDAYEVENT:TRUE
SUMMARY:DEWITT JULY CELEBRATION 2011
DESCRIPTION:For more information on the events of each day\, go to their Facebook page at  http://www.facebook.com/pages/DeWitt-July-Celebration/108491142531714
X-ALT-DESC;FMTTYPE=text/html:<p>\n	For more information on the events of each day\, go to their&nbsp\;Facebook page at &nbsp\;<a href="http://www.facebook.com/pages/DeWitt-July-Celebration/108491142531714">http://www.facebook.com/pages/DeWitt-July-Celebration/108491142531714</a><span _fck_bookmark="1" style="display: none">&nbsp\;</span></p>\n
LOCATION:
UID:e.41.4940
SEQUENCE:3
DTSTAMP:20260424T152950Z
URL:https://business.beatricechamber.com/events/details/dewitt-july-celebration-2011-07-01-2011-4940
END:VEVENT

END:VCALENDAR
