BEGIN:VCALENDAR
VERSION:2.0
PRODID:-//ChamberMaster//Event Calendar 2.0//EN
METHOD:PUBLISH
X-PUBLISHED-TTL:P3D
REFRESH-INTERVAL:P3D
CALSCALE:GREGORIAN
BEGIN:VEVENT
DTSTART:20101208T190000Z
DTEND:20101208T210000Z
X-MICROSOFT-CDO-ALLDAYEVENT:FALSE
SUMMARY:DeWitt Senior Center Open House
DESCRIPTION:Dewitt Senior Center 20th anniversary Open House:\n\n\n\n1-3 p.m.\, downtown DeWitt.\n\nRecognizing Shirley Saathoff\, 11 year service manager\; Bev Plihal\, new manager. Refreshments.
X-ALT-DESC;FMTTYPE=text/html:<span style="font-size: 14px\;"><strong>Dewitt Senior Center 20th anniversary Open House:</strong></span><br />\n<br />\n1-3 p.m.\, downtown DeWitt.<br />\nRecognizing Shirley Saathoff\, 11 year service manager\; Bev Plihal\, new manager. Refreshments.<br />\n<br />\n<br />\n
LOCATION:
UID:e.41.2890
SEQUENCE:3
DTSTAMP:20260425T014256Z
URL:https://business.beatricechamber.com/events/details/dewitt-senior-center-open-house-12-08-2010-2890
END:VEVENT

END:VCALENDAR
