BEGIN:VCALENDAR
VERSION:2.0
PRODID:-//ChamberMaster//Event Calendar 2.0//EN
METHOD:PUBLISH
X-PUBLISHED-TTL:P3D
REFRESH-INTERVAL:P3D
CALSCALE:GREGORIAN
BEGIN:VEVENT
DTSTART;VALUE=DATE:20111117
DTEND;VALUE=DATE:20111118
TRANSP:TRANSPARENT
X-MICROSOFT-CDO-ALLDAYEVENT:TRUE
SUMMARY:Diabetes Education
DESCRIPTION:Free Diabetes Education Event  November 17 from 2:30 - 6:30 pm\, at the Beatrice Community Hospital and Health Center in the  Homestead room. For more information\, call  Kathi Taylor at 402-223-6758
X-ALT-DESC;FMTTYPE=text/html:Free Diabetes Education Event &nbsp\;November 17 from 2:30 - 6:30 pm\, at the Beatrice Community Hospital and Health Center in the &nbsp\;Homestead room. For more information\, call &nbsp\;Kathi Taylor at 402-223-6758
LOCATION:
UID:e.41.5252
SEQUENCE:3
DTSTAMP:20260424T095951Z
URL:https://business.beatricechamber.com/events/details/diabetes-education-11-17-2011-5252
END:VEVENT

END:VCALENDAR
