BEGIN:VCALENDAR
VERSION:2.0
PRODID:-//ChamberMaster//Event Calendar 2.0//EN
METHOD:PUBLISH
X-PUBLISHED-TTL:P3D
REFRESH-INTERVAL:P3D
CALSCALE:GREGORIAN
BEGIN:VEVENT
DTSTART:20091124T190000Z
DTEND:20091124T203000Z
X-MICROSOFT-CDO-ALLDAYEVENT:FALSE
SUMMARY:Diabetes Education Class at BCH
DESCRIPTION:Diabetes Education Free Class 10 Ways to Cut the Cost of Diabetes Care Tuesday\, November 24th1:00 -2:30 p mBeatrice Community HospitalGarden Room No Pre-Registration Required For further information call the Hospital's Certified Diabetes Educator at 402-223-6758
X-ALT-DESC;FMTTYPE=text/html:<div><strong>Diabetes Education Free Class</strong></div><div>&nbsp\;</div><div>10 Ways to Cut the Cost of Diabetes Care</div><div>&nbsp\;</div><div>Tuesday\, November 24th</div><div>1:00 -2:30 p m</div><div>Beatrice Community Hospital</div><div>Garden Room</div><div>&nbsp\;</div><div>No Pre-Registration Required</div><div>&nbsp\;</div><div>For further information call the Hospital's Certified Diabetes Educator at 402-223-6758</div>
LOCATION:
UID:e.41.1528
SEQUENCE:3
DTSTAMP:20260425T210305Z
URL:https://business.beatricechamber.com/events/details/diabetes-education-class-at-bch-11-24-2009-1528
END:VEVENT

END:VCALENDAR
