BEGIN:VCALENDAR
VERSION:2.0
PRODID:-//ChamberMaster//Event Calendar 2.0//EN
METHOD:PUBLISH
X-PUBLISHED-TTL:P3D
REFRESH-INTERVAL:P3D
CALSCALE:GREGORIAN
BEGIN:VEVENT
DTSTART:20091110T150000Z
DTEND:20091110T230000Z
X-MICROSOFT-CDO-ALLDAYEVENT:FALSE
SUMMARY:Diabetic Education and Awareness Open House
DESCRIPTION:Diabetic Education and Awareness Open House Tuesday November 10th\, 2009 from 9 a.m. to 5 p.m.  Deines Pharmacy will feature regional Representatives and Trainers from diabetes health care companies\, complimentary with no charge to you.  If you have questions or would like to set up a private tour\, call us at (402) 223-4779 and ask for Cally\, Marketing Manager.
X-ALT-DESC;FMTTYPE=text/html:<div><div style="margin: 0in 0in 0pt 27pt"><span style="font-size: 14pt">Diabetic Education and Awareness Open House </span></div><div style="margin: 0in 0in 0pt 27pt"><span style="font-size: 14pt">Tuesday November 10<sup>th</sup>\, 2009 from 9 a.m. to 5 p.m. </span></div><div style="margin: 0in 0in 0pt 27pt">&nbsp\;</div><div style="margin: 0in 0in 0pt 27pt"><span style="font-size: 14pt">Deines Pharmacy will feature regional Representatives and Trainers from diabetes health care companies\, complimentary with no charge to you.&nbsp\;</span></div><div style="margin: 0in 0in 0pt 27pt"><span style="font-size: 14pt"><div style="margin: 0in 0in 0pt 27pt"><div>&nbsp\;</div><div style="text-align: left"><span style="font-size: 14pt">If you have questions or would like to set up a private tour\, call us at (402) 223-4779 </span></div><div style="text-align: left"><span style="font-size: 14pt">and ask for Cally\, Marketing Manager.</span></div><p style="text-align: left">&nbsp\;</p></div></span></div></div>
LOCATION:
UID:e.41.1520
SEQUENCE:3
DTSTAMP:20260425T205405Z
URL:https://business.beatricechamber.com/events/details/diabetic-education-and-awareness-open-house-11-10-2009-1520
END:VEVENT

END:VCALENDAR
