BEGIN:VCALENDAR
VERSION:2.0
PRODID:-//ChamberMaster//Event Calendar 2.0//EN
METHOD:PUBLISH
X-PUBLISHED-TTL:P3D
REFRESH-INTERVAL:P3D
CALSCALE:GREGORIAN
BEGIN:VEVENT
DTSTART;VALUE=DATE:20101111
DTEND;VALUE=DATE:20101112
TRANSP:TRANSPARENT
X-MICROSOFT-CDO-ALLDAYEVENT:TRUE
SUMMARY:Diller Community Club Card Party
DESCRIPTION:Diller Community Club Card Party:\n\n\n\nWill be held at 7 p.m. at the Diller Community Building. Snacks and prizes will be provided.
X-ALT-DESC;FMTTYPE=text/html:<strong><span style="font-size: 14px">Diller Community Club Card Party:</span></strong><br />\n<br />\nWill be held at 7 p.m. at the Diller Community Building. Snacks and prizes will be provided.
LOCATION:
UID:e.41.2818
SEQUENCE:3
DTSTAMP:20260425T032931Z
URL:https://business.beatricechamber.com/events/details/diller-community-club-card-party-11-11-2010-2818
END:VEVENT

END:VCALENDAR
