BEGIN:VCALENDAR
VERSION:2.0
PRODID:-//ChamberMaster//Event Calendar 2.0//EN
METHOD:PUBLISH
X-PUBLISHED-TTL:P3D
REFRESH-INTERVAL:P3D
CALSCALE:GREGORIAN
BEGIN:VEVENT
DTSTART;VALUE=DATE:20101110
DTEND;VALUE=DATE:20101113
TRANSP:TRANSPARENT
X-MICROSOFT-CDO-ALLDAYEVENT:TRUE
SUMMARY:Diller- Odell Elementary Book Fair
DESCRIPTION:Diller- Odell Elementary Book Fair:\n\n\n\nWill be held today through Friday at the elementary library. The theme is "Reading Saves the Day" and an amazing selection of books will be available at the book fair.
X-ALT-DESC;FMTTYPE=text/html:<strong><span style="font-size: 14px">Diller- Odell Elementary Book Fair:</span></strong><br />\n<br />\nWill be held today through Friday at the elementary library. The theme is &quot\;Reading Saves the Day&quot\; and an amazing selection of books will be available at the book fair.
LOCATION:
UID:e.41.2819
SEQUENCE:3
DTSTAMP:20260425T032504Z
URL:https://business.beatricechamber.com/events/details/diller-odell-elementary-book-fair-11-10-2010-2819
END:VEVENT

END:VCALENDAR
