BEGIN:VCALENDAR
VERSION:2.0
PRODID:-//ChamberMaster//Event Calendar 2.0//EN
METHOD:PUBLISH
X-PUBLISHED-TTL:P3D
REFRESH-INTERVAL:P3D
CALSCALE:GREGORIAN
BEGIN:VEVENT
DTSTART;VALUE=DATE:20111007
DTEND;VALUE=DATE:20111008
TRANSP:TRANSPARENT
X-MICROSOFT-CDO-ALLDAYEVENT:TRUE
SUMMARY:Diller-Odell High School Post Prom Tailgate & Homecoming Football Game
DESCRIPTION:Diller-Odell High School Post Prom Tailgate & Homecoming Football Game\n\n\n\nFriday\, October 7\n\nDiller-Odell vs Johnson-Brock Football Game at 7 pm
X-ALT-DESC;FMTTYPE=text/html:Diller-Odell High School Post Prom Tailgate &amp\; Homecoming Football Game<br />\n<br />\nFriday\, October 7<br />\nDiller-Odell vs Johnson-Brock Football Game at 7 pm<br />\n<br />\n
LOCATION:
UID:e.41.5168
SEQUENCE:3
DTSTAMP:20260424T111855Z
URL:https://business.beatricechamber.com/events/details/diller-odell-high-school-post-prom-tailgate-homecoming-football-game-10-07-2011-5168
END:VEVENT

END:VCALENDAR
